BEGIN:VCALENDAR
VERSION:2.0
PRODID:-//Plone.org//NONSGML plone.app.event//EN
X-WR-TIMEZONE:US/Central
BEGIN:VEVENT
SUMMARY:Book Signing
DTSTART;TZID=US/Central:20131109T190000
DTEND;TZID=US/Central:20131109T210000
DTSTAMP:20260420T225122Z
UID:cdd7a8afca3c5026d992449f4b56e38f@saas_stack_varnish:6080
CONTACT:Renee Mick\, 432-729-4631\, rmick.marfapl@yahoo.com
CREATED:20131010T153434Z
DESCRIPTION:The Alpine Library and the Marfa Library will host author Rica
 rdo Ainslie at the Alpine Library. Mr. Ainslie will discuss and sign his b
 ook "The Fight to Save Juarez".
LAST-MODIFIED:20131010T153447Z
LOCATION:Alpine Public Library
URL:https://www.marfapubliclibrary.org/news-events/lib-cal/book-signing.ic
 s
END:VEVENT
BEGIN:VTIMEZONE
TZID:US/Central
X-LIC-LOCATION:US/Central
BEGIN:STANDARD
DTSTART:20131103T010000
TZNAME:CST
TZOFFSETFROM:-0500
TZOFFSETTO:-0600
END:STANDARD
END:VTIMEZONE
END:VCALENDAR
